BEGIN:VCALENDAR
VERSION:2.0
PRODID:dhs.georgia.gov
X-WR-TIMEZONE:America/New_York
BEGIN:VTIMEZONE
TZID:America/New_York
X-LIC-LOCATION:America/New_York
END:VTIMEZONE
BEGIN:VEVENT
UID:60a92a552df66
DTSTART;TZID=UTC:20200302T180000
SEQUENCE:0
TRANSP:OPAQUE
DTEND;TZID=UTC:20200302T190000
URL:https://dhs.georgia.gov/events/2020-03-02/georgiacares-medicare-worksho
 p
LOCATION:50 Johnny Mercer Boulevard SAVANNAH\, GA 31410
SUMMARY:GeorgiaCares Medicare Workshop 
CLASS:PUBLIC
DTSTAMP:20210522T115917Z
END:VEVENT
END:VCALENDAR