BEGIN:VCALENDAR
VERSION:2.0
PRODID:dhs.georgia.gov
X-WR-TIMEZONE:America/New_York
BEGIN:VTIMEZONE
TZID:America/New_York
X-LIC-LOCATION:America/New_York
END:VTIMEZONE
BEGIN:VEVENT
UID:60a92a60edb5c
DTSTART;TZID=UTC:20200227T150000
SEQUENCE:0
TRANSP:OPAQUE
DTEND;TZID=UTC:20200227T170000
URL:https://dhs.georgia.gov/events/2020-02-27/faith-and-nonprofit-meeting-g
 ordon-county
LOCATION:905 Curtis Pkwy SE CALHOUN\, GA 30701
SUMMARY:Faith and Nonprofit Meeting: Gordon County
CLASS:PUBLIC
DESCRIPTION:Faith and nonprofit organizations have an influential position 
 in bringing awareness to the needs of those in the community they serve.\n
 \nThe Department of Human Services’ vision is to build stronger families
  for a stronger Georgia. Connecting with community partners and those seek
 ing to serve fellow Georgians is critical to the realization of our vision
 .\n\n\n\nYou will hear from DHS regarding foster care and adoption\, child
  support services and aging and disability services.\n\nAdditionally\, we 
 want to hear your thoughts on how through partnerships\, we can work to ma
 ke Georgia better. Together\, we can make a difference. We look forward to
  seeing you there!\n\n\n\n 
DTSTAMP:20210522T115928Z
END:VEVENT
END:VCALENDAR