BEGIN:VCALENDAR
VERSION:2.0
PRODID:dhs.georgia.gov
X-WR-TIMEZONE:America/New_York
BEGIN:VTIMEZONE
TZID:America/New_York
X-LIC-LOCATION:America/New_York
END:VTIMEZONE
BEGIN:VEVENT
UID:60a92a6940037
DTSTART;TZID=UTC:20200225T140000
SEQUENCE:0
TRANSP:OPAQUE
DTEND;TZID=UTC:20200225T170000
URL:https://dhs.georgia.gov/events/2020-02-25/census-job-info-session-clark
 e-county
LOCATION:2025 Baxter Street ATHENS\, GA 30606
SUMMARY:Census Job Info Session: Clarke County
CLASS:PUBLIC
DESCRIPTION:During this event you can:\n\n\nNetwork with Census recruiters\
 nLearn about the hiring process\nApply for jobs\n\n\n\n\n$18 - $20 per hou
 r | No experience needed\n\n\n\n*If you receive TANF (Temporary Assistance
  for Needy Families) or Non-Modified Adjusted Gross Income Medicaid\, your
  temporary employment with the U.S. Census will not impact your eligibilit
 y for those programs. If you receive SNAP (Supplemental Nutrition Assistan
 ce Program) benefits\, income gained from your employment with the U.S. Ce
 nsus between 9/1/19 and 9/30/20 will not impact your eligibility for this 
 program.
DTSTAMP:20210522T115937Z
END:VEVENT
END:VCALENDAR