BEGIN:VCALENDAR
VERSION:2.0
PRODID:dhs.georgia.gov
X-WR-TIMEZONE:America/New_York
BEGIN:VTIMEZONE
TZID:America/New_York
X-LIC-LOCATION:America/New_York
END:VTIMEZONE
BEGIN:VEVENT
UID:60a8c2bc0b8e9
DTSTART;TZID=UTC:20200630T200000
SEQUENCE:0
TRANSP:OPAQUE
DTEND;TZID=UTC:20200630T210000
URL:https://dhs.georgia.gov/events/2020-06-30/georgiacares-webinar
SUMMARY:GeorgiaCares Webinar
CLASS:PUBLIC
DESCRIPTION:The GeorgiaCares State Health Insurance Assistance Program (SHI
 P) can teach you about Medicare enrollment options\, coverage changes\, ou
 t-of-pocket costs\, Medicare Supplement (Medigap) policies and more.
DTSTAMP:20210522T043716Z
END:VEVENT
END:VCALENDAR