BEGIN:VCALENDAR
VERSION:2.0
PRODID:dhs.georgia.gov
X-WR-TIMEZONE:America/New_York
BEGIN:VTIMEZONE
TZID:America/New_York
X-LIC-LOCATION:America/New_York
END:VTIMEZONE
BEGIN:VEVENT
UID:60a8c2ec0299a
DTSTART;TZID=UTC:20200608T223000
SEQUENCE:0
TRANSP:OPAQUE
DTEND;TZID=UTC:20200609T000000
URL:https://dhs.georgia.gov/events/2020-06-08/dementia-friends-georgia
SUMMARY:Dementia Friends Georgia
CLASS:PUBLIC
DESCRIPTION:June is Alzheimer’s and Brain Awareness Month and the Georgia
  Department of Human Services is offering several Dementia Friends session
 s throughout the month.\n\n\n\nDementia Friends is a global movement that 
 is changing the way people think\, act\, and talk about dementia. Develope
 d by the Alzheimer’s Society in the United Kingdom\, the Dementia Friend
 s movement is now spreading through Georgia. More than 150\,000 Georgians 
 have been diagnosed with Alzheimer’s disease\, by helping everyone in a 
 community understand what dementia is and how it affects people\, each of 
 us can make a difference for people touched by dementia.
DTSTAMP:20210522T043804Z
END:VEVENT
END:VCALENDAR