BEGIN:VCALENDAR
VERSION:2.0
PRODID:dhs.georgia.gov
X-WR-TIMEZONE:America/New_York
BEGIN:VTIMEZONE
TZID:America/New_York
X-LIC-LOCATION:America/New_York
END:VTIMEZONE
BEGIN:VEVENT
UID:60a8c2dc3398f
DTSTART;TZID=UTC:20200613T140000
SEQUENCE:0
TRANSP:OPAQUE
URL:https://dhs.georgia.gov/events/2020-06-13/managing-your-money-hard-time
 s
SUMMARY:Managing Your Money in Hard Times 
CLASS:PUBLIC
DESCRIPTION:The Georgia Department of Human Services is teaming up with the
  Georgia Public Library Service to offer a free online information session
  on financial management and planning. Certified financial planners from t
 he Financial PlanningAssociation of Georgia will present “Managing Your 
 Money in Hard Times”. The information provided in this webinar will be h
 elpful for everyone. \n\n\n\n\nFor additional information\, email dhs.out
 reach@dhs.ga.gov.
DTSTAMP:20210522T043748Z
END:VEVENT
END:VCALENDAR