BEGIN:VCALENDAR
VERSION:2.0
PRODID:dhs.georgia.gov
X-WR-TIMEZONE:America/New_York
BEGIN:VTIMEZONE
TZID:America/New_York
X-LIC-LOCATION:America/New_York
END:VTIMEZONE
BEGIN:VEVENT
UID:60a547607441b
DTSTART;TZID=UTC:20200810T160000
SEQUENCE:0
TRANSP:OPAQUE
DTEND;TZID=UTC:20200810T164500
URL:https://dhs.georgia.gov/events/2020-08-10/child-support-services-father
 hood-program
SUMMARY:Child Support Services | Fatherhood program
CLASS:PUBLIC
DTSTAMP:20210519T131408Z
END:VEVENT
END:VCALENDAR