BEGIN:VCALENDAR
VERSION:2.0
PRODID:dhs.georgia.gov
X-WR-TIMEZONE:America/New_York
BEGIN:VTIMEZONE
TZID:America/New_York
X-LIC-LOCATION:America/New_York
END:VTIMEZONE
BEGIN:VEVENT
UID:60a5474e3d28a
DTSTART;TZID=UTC:20200817T180000
SEQUENCE:0
TRANSP:OPAQUE
DTEND;TZID=UTC:20200817T184500
URL:https://dhs.georgia.gov/events/2020-08-17/child-support-services-patern
 ity-acknowledgement-overview
SUMMARY:Child Support Services | Paternity Acknowledgement Overview
CLASS:PUBLIC
DTSTAMP:20210519T131350Z
END:VEVENT
END:VCALENDAR