BEGIN:VCALENDAR
VERSION:2.0
PRODID:dhs.georgia.gov
X-WR-TIMEZONE:America/New_York
BEGIN:VTIMEZONE
TZID:America/New_York
X-LIC-LOCATION:America/New_York
END:VTIMEZONE
BEGIN:VEVENT
UID:60a3bb349dae7
DTSTART;TZID=UTC:20201117T170000
SEQUENCE:0
TRANSP:OPAQUE
DTEND;TZID=UTC:20201117T183000
URL:https://dhs.georgia.gov/events/2020-11-17/webinar-dementia-friends-geor
 gia
SUMMARY:Webinar| Dementia Friends Georgia  
CLASS:PUBLIC
DESCRIPTION:Dementia Friends is a global movement that is changing the way 
 people think\, act\, and talk about dementia. Developed by the Alzheimer
 ’s Society in the United Kingdom\, the Dementia Friends movement is now 
 spreading through Georgia. More than 150\,000 Georgians have been diagnose
 d with Alzheimer’s disease\, by helping everyone in a community understa
 nd what dementia is and how it affects people\, each of us can make a diff
 erence for people touched by dementia.
DTSTAMP:20210518T090348Z
END:VEVENT
END:VCALENDAR