BEGIN:VCALENDAR
VERSION:2.0
PRODID:dhs.georgia.gov
X-WR-TIMEZONE:America/New_York
BEGIN:VTIMEZONE
TZID:America/New_York
X-LIC-LOCATION:America/New_York
END:VTIMEZONE
BEGIN:VEVENT
UID:60a3bb2ea4e24
DTSTART;TZID=UTC:20201118T143000
SEQUENCE:0
TRANSP:OPAQUE
DTEND;TZID=UTC:20201118T170000
URL:https://dhs.georgia.gov/events/2020-11-18/virtual-board-meeting
SUMMARY:Virtual Board Meeting
CLASS:PUBLIC
DTSTAMP:20210518T090342Z
END:VEVENT
END:VCALENDAR