BEGIN:VCALENDAR
PRODID:dhs.georgia.gov
VERSION:2.0
CALSCALE:GREGORIAN
BEGIN:VEVENT
UID:d0778fc020c8da87261060e8932eb20d
DTSTAMP:20260421T043053Z
SUMMARY:DFCS State Advisory Board Meeting 
URL:https://dhs.georgia.gov/events/2026-09-25/dfcs-state-advisory-board-mee
 ting
DTSTART;VALUE=DATE:20260925
DTEND;VALUE=DATE:20260926
X-LIC-LOCATION:America/New_York
X-WR-TIMEZONE:America/New_York
END:VEVENT
BEGIN:VTIMEZONE
TZID:America/New_York
END:VTIMEZONE
END:VCALENDAR
