BEGIN:VCALENDAR
PRODID:dhs.georgia.gov
VERSION:2.0
CALSCALE:GREGORIAN
BEGIN:VEVENT
UID:b1456524b5e9c2391c8533d496b7c66b
DTSTAMP:20260422T182408Z
SUMMARY:DHS Board of Human Services Meeting
URL:https://dhs.georgia.gov/events/2026-10-14/dhs-board-human-services-meet
 ing
DTSTART;VALUE=DATE:20261014
DTEND;VALUE=DATE:20261015
X-LIC-LOCATION:America/New_York
X-WR-TIMEZONE:America/New_York
END:VEVENT
BEGIN:VTIMEZONE
TZID:America/New_York
END:VTIMEZONE
END:VCALENDAR
