BEGIN:VCALENDAR
PRODID:dhs.georgia.gov
VERSION:2.0
CALSCALE:GREGORIAN
BEGIN:VEVENT
UID:222133e6064540dbee65c1aaff3631ac
DTSTAMP:20260419T170731Z
SUMMARY:Public Hearing Regarding Proposed Amendments to Chapter 290-2\, Sub
 ject 290-2-7\, entitled "Rules and Regulations for Outdoor Child Caring Pr
 ograms"
DESCRIPTION:A public hearing will be held on May 7\, 2026\, at 11 a.m.\, at
  47 Trinity Avenue SW\, Room G-07A/B\, Atlanta\, GA 30334.
URL:https://dhs.georgia.gov/events/2026-05-07/public-hearing-regarding-prop
 osed-amendments-chapter-290-2-subject-290-2-7
DTSTART;VALUE=DATE:20260507
DTEND;VALUE=DATE:20260508
LOCATION:47 Trinity Ave. S.W.  Atlanta\, GA 30334 US
X-LIC-LOCATION:America/New_York
X-WR-TIMEZONE:America/New_York
END:VEVENT
BEGIN:VTIMEZONE
TZID:America/New_York
END:VTIMEZONE
END:VCALENDAR
