BEGIN:VCALENDAR
PRODID:dhs.georgia.gov
VERSION:2.0
CALSCALE:GREGORIAN
BEGIN:VEVENT
UID:ab79311a1f0f6a3be67c88e1859cb3e9
DTSTAMP:20260424T225814Z
SUMMARY:Employer Symposium
DESCRIPTION:As one of the child support program’s most important partne
 rs\, we invite you to join us at our Employer Symposium\, where we will
  discuss child support topics\, share resources and providean overview of
  how Georgia plans to support customers in the “gig” economy (nontrad
 itional jobs).\n\nSession 1: 9 a.m. - noon\n\nSession 2: 1 p.m. - 4 p.m.\
 n\nRSVP for Session 1 or 2 by March 15 by clicking here. 
URL:https://dhs.georgia.gov/events/2019-03-28/employer-symposium
DTSTART;VALUE=DATE:20190328
DTEND;VALUE=DATE:20190329
LOCATION:Marriott Atlanta Century Center 2000 Century Blvd. NE  Atlanta\, G
 A 30345 US
X-LIC-LOCATION:America/New_York
X-WR-TIMEZONE:America/New_York
END:VEVENT
BEGIN:VTIMEZONE
TZID:America/New_York
END:VTIMEZONE
END:VCALENDAR
