BEGIN:VCALENDAR
PRODID:dhs.georgia.gov
VERSION:2.0
CALSCALE:GREGORIAN
BEGIN:VEVENT
UID:d153afbd26bb84f74c2ad368b36a1e03
DTSTAMP:20260424T232053Z
SUMMARY:Division of Family and Children Services Advisory Board Meeting
DESCRIPTION:State Advisory Board Presentations
URL:https://dhs.georgia.gov/events/2019-01-08/division-family-and-children-
 services-advisory-board-meeting
DTSTART;VALUE=DATE:20190108
DTEND;VALUE=DATE:20190109
X-LIC-LOCATION:America/New_York
X-WR-TIMEZONE:America/New_York
END:VEVENT
BEGIN:VTIMEZONE
TZID:America/New_York
END:VTIMEZONE
END:VCALENDAR
