BEGIN:VCALENDAR
PRODID:dhs.georgia.gov
VERSION:2.0
CALSCALE:GREGORIAN
BEGIN:VEVENT
UID:0704e79e24a4db1f99de8f7c84cb0e27
DTSTAMP:20260424T232054Z
SUMMARY:Faith and Nonprofit Meeting
DESCRIPTION:Faith and nonprofit organizations have an influential position 
 in bringing awareness to the needs of those in the community they serve.Th
 e Department of Human Services’ vision is to build stronger families for
  a stronger Georgia. Connecting with community partners and those seeking 
 to serve fellow Georgians is critical to the realization of our vision.\n\
 nYou will hear from DHS regarding foster care and adoption\, child support
  services and aging and disability services.Additionally\, we want to hear
  your thoughts on how through partnerships\, we can work to make Georgia b
 etter. Together\, we can make a difference. We look forward to seeing you 
 there!\n\nRSVP here
URL:https://dhs.georgia.gov/events/2019-01-31/faith-and-nonprofit-meeting
DTSTART;VALUE=DATE:20190131
DTEND;VALUE=DATE:20190201
LOCATION:500 Kedron Drive  Peachtree City\, GA 30269 US
X-LIC-LOCATION:America/New_York
X-WR-TIMEZONE:America/New_York
END:VEVENT
BEGIN:VTIMEZONE
TZID:America/New_York
END:VTIMEZONE
END:VCALENDAR
