BEGIN:VCALENDAR
PRODID:dhs.georgia.gov
VERSION:2.0
CALSCALE:GREGORIAN
BEGIN:VEVENT
UID:63026edeb38aef1d8b17a64bdedd4dd9
DTSTAMP:20260424T225814Z
SUMMARY:Board Meeting 
DESCRIPTION:The quarterly meetings of the DHS Board of Human Services are o
 pen to the public. Meetings begin at 11:00 a.m. and are normally held in t
 he DHS boardroom on the 29th floor of the Georgia Department of Human Se
 rvices central offices at 2 Peachtree Street\, Atlanta. Occasionally\, the
  board will meet at a different location.
URL:https://dhs.georgia.gov/events/2019-02-13/board-meeting
DTSTART;VALUE=DATE:20190213
DTEND;VALUE=DATE:20190214
X-LIC-LOCATION:America/New_York
X-WR-TIMEZONE:America/New_York
END:VEVENT
BEGIN:VTIMEZONE
TZID:America/New_York
END:VTIMEZONE
END:VCALENDAR
