BEGIN:VCALENDAR
PRODID:dhs.georgia.gov
VERSION:2.0
CALSCALE:GREGORIAN
BEGIN:VEVENT
UID:a978c379ce3c4b22ca395604e9c95d6b
DTSTAMP:20260424T232053Z
SUMMARY:2019 Prevention and Community Support Youth Summit
DESCRIPTION:Middle and high school youth\, grades 6-12\, and their adult c
 haperones are invited to join us for a fun\, dynamic and engaging day fil
 led with inspiring\, motivational and educational messages designed to e
 mpower youth and adults to make the best choices for their lives. This F
 REE event includes lunch\, giveaways and lots of FUN! \n\nYou must regis
 ter to attend: 2019 DFCS-PCS Youth Summit Registration
URL:https://dhs.georgia.gov/events/2019-02-16/2019-prevention-and-community
 -support-youth-summit
DTSTART;VALUE=DATE:20190216
DTEND;VALUE=DATE:20190217
X-LIC-LOCATION:America/New_York
X-WR-TIMEZONE:America/New_York
END:VEVENT
BEGIN:VTIMEZONE
TZID:America/New_York
END:VTIMEZONE
END:VCALENDAR
