BEGIN:VCALENDAR
PRODID:dhs.georgia.gov
VERSION:2.0
CALSCALE:GREGORIAN
BEGIN:VEVENT
UID:52aeeb08399ee7a4bb3467401e1a9d3d
DTSTAMP:20260424T225815Z
SUMMARY:Special Board Meeting
URL:https://dhs.georgia.gov/events/2019-01-18/special-board-meeting
DTSTART;VALUE=DATE:20190118
DTEND;VALUE=DATE:20190119
X-LIC-LOCATION:America/New_York
X-WR-TIMEZONE:America/New_York
END:VEVENT
BEGIN:VTIMEZONE
TZID:America/New_York
END:VTIMEZONE
END:VCALENDAR
