BEGIN:VCALENDAR
PRODID:dhs.georgia.gov
VERSION:2.0
CALSCALE:GREGORIAN
BEGIN:VEVENT
UID:5001524784d7efcf9099affc83e4f68f
DTSTAMP:20260424T225815Z
SUMMARY:Division of Family & Children Services Advisory Board Meeting
DESCRIPTION:State Advisory Board Presentation
URL:https://dhs.georgia.gov/events/2019-03-12/division-family-children-serv
 ices-advisory-board-meeting
DTSTART;VALUE=DATE:20190312
DTEND;VALUE=DATE:20190313
X-LIC-LOCATION:America/New_York
X-WR-TIMEZONE:America/New_York
END:VEVENT
BEGIN:VTIMEZONE
TZID:America/New_York
END:VTIMEZONE
END:VCALENDAR
