BEGIN:VCALENDAR
VERSION:2.0
PRODID:dhs.georgia.gov
X-WR-TIMEZONE:America/New_York
BEGIN:VTIMEZONE
TZID:America/New_York
X-LIC-LOCATION:America/New_York
END:VTIMEZONE
BEGIN:VEVENT
UID:60aa6516269a9
DTSTART;TZID=UTC:20190418T140000
SEQUENCE:0
TRANSP:OPAQUE
DTEND;TZID=UTC:20190418T160000
URL:https://dhs.georgia.gov/events/2019-04-18/faith-and-nonprofit-meeting
LOCATION:Alpharetta First Baptist Church 44 Academy St. ALPHARETTA\, GA 300
 09
SUMMARY:Faith and Nonprofit Meeting
CLASS:PUBLIC
DESCRIPTION:Faith and nonprofit organizations have an influential position 
 in bringing awareness to the needs of those in the community they serve.Th
 e Department of Human Services’ vision is to build stronger families for
  a stronger Georgia. Connecting with community partners and those seeking 
 to serve fellow Georgians is critical to the realization of our vision.\n\
 nYou will hear from DHS regarding foster care and adoption\, child support
  services and aging and disability services.Additionally\, we want to hear
  your thoughts on how through partnerships\, we can work to make Georgia b
 etter. Together\, we can make a difference. We look forward to seeing you 
 there!\n\nRSVP here
DTSTAMP:20210523T102214Z
END:VEVENT
END:VCALENDAR