BEGIN:VCALENDAR
VERSION:2.0
PRODID:dhs.georgia.gov
X-WR-TIMEZONE:America/New_York
BEGIN:VTIMEZONE
TZID:America/New_York
X-LIC-LOCATION:America/New_York
END:VTIMEZONE
BEGIN:VEVENT
UID:60aa651abcbeb
DTSTART;TZID=UTC:20190417T220000
SEQUENCE:0
TRANSP:OPAQUE
DTEND;TZID=UTC:20190417T233000
URL:https://dhs.georgia.gov/events/2019-04-17/fatherhood-conversation-valdo
 sta
LOCATION:Valdosta City Hall Annex 300 N Lee St VALDOSTA\, GA 31601
SUMMARY:Fatherhood: A Conversation (Valdosta) 
CLASS:PUBLIC
DESCRIPTION:Learn about services and programs from the Department of Human 
 Services Division of Child Support Services. Available programs connect pa
 rents who are unemployed or underemployed with resources that lead to jobs
  paying above minimum wage\, greater self-sufficiency and more emotional\
 , parental and financial involvement in the lives of their children.\n\nAl
 so\, attend virtually by watching our Facebook Live. 
DTSTAMP:20210523T102218Z
END:VEVENT
END:VCALENDAR